BEGIN:VCALENDAR
PRODID:-//eluceo/ical//2.0/EN
VERSION:2.0
CALSCALE:GREGORIAN
BEGIN:VEVENT
UID:event-837
DTSTAMP:20260420T221032Z
SUMMARY:Inhousedag Brinkhof
DESCRIPTION:Heb jij interesse in het intellectueel eigendomsrecht en wil je
  graag een kijkje nemen binnen een Europees advocatenkantoor met een sterk
  accent op innovatie\, technologie? Meld je dan aan voor de inhousedag bij
  Brinkhof! Op donderdag 30 april organiseert het Turing Dispuut een inhous
 edag bij Brinkhof\, een Europees advocatenkantoor dat naast zijn specialis
 atie in het IE-recht zich ook enorm focust op data\, privacy en gegevensbe
 scherming. De dag begint om 14:00 uur en tijdens deze dag kom je\, naast h
 et ontdekken van het sfeer op het kantoor\, meer te weten over de dagelijk
 se bezigheden van het kantoor waarbij je in aanraking komt met de persoonl
 ijke ervaringen van de advocaten. Wil je graag kennismaken met dit kantoor
 ? Meld je da snel aan via de JSVU-website of de JSVU-app!!
DTSTART:20260430T120000Z
DTEND:20260430T160000Z
END:VEVENT
BEGIN:VTIMEZONE
TZID:UTC
BEGIN:STANDARD
DTSTART:20260430T120000
TZNAME:UTC
TZOFFSETTO:+0000
TZOFFSETFROM:+0000
END:STANDARD
END:VTIMEZONE
END:VCALENDAR
